BEGIN:VCALENDAR
VERSION:2.0
PRODID:-//Bradeur.fr//FR
CALSCALE:GREGORIAN
METHOD:PUBLISH
BEGIN:VEVENT
UID:1306-marche-aux-livres-de-la-place-saint-pierre@bradeur.fr
DTSTAMP:20260425T142157Z
DTSTART:20260312T090000
DTEND:20260312T190000
SUMMARY:Marché aux livres de la place saint-pierre
DESCRIPTION:Marché des bouquinistes de la place saint-pierre tous les jeud
 is et vendredis.\n\nVendredi 6 Mars 2026\nde 9h00 à 19h00\n\nPlace Saint-P
 ierre\n31000 Toulouse
LOCATION:Place Saint-Pierre, 31000 Toulouse
URL:https://bradeur.fr/braderie.php?slug=marche-aux-livres-de-la-place-sain
 t-pierre
END:VEVENT
END:VCALENDAR
