BEGIN:VCALENDAR
VERSION:2.0
PRODID:-//Bradeur.fr//FR
CALSCALE:GREGORIAN
METHOD:PUBLISH
BEGIN:VEVENT
UID:1308-marche-aux-livres-des-allees-paul-feuga@bradeur.fr
DTSTAMP:20260425T142342Z
DTSTART:20260313T100000
DTEND:20260313T190000
SUMMARY:Marché aux livres des allées paul feuga
DESCRIPTION:Marché de bouquinistes des allées paul-feuga avec des livres 
 neufs et d'occasion sur les allées paul-feuga.\nCe marché a lieu tous les
  vendredis de 7h à 18h\nmétro ligne b - tram - palais de justice\n\nVendr
 edi 6 Mars 2026\nde 10h00 à 19h00\n\nAllées Paul Feuga\n31000 Toulouse
LOCATION:Allées Paul Feuga, 31000 Toulouse
URL:https://bradeur.fr/braderie.php?slug=marche-aux-livres-des-allees-paul-
 feuga
END:VEVENT
END:VCALENDAR
