BEGIN:VCALENDAR
VERSION:2.0
PRODID:-//Bradeur.fr//FR
CALSCALE:GREGORIAN
METHOD:PUBLISH
BEGIN:VEVENT
UID:1577-marche-aux-livres-esplanade@bradeur.fr
DTSTAMP:20260425T142624Z
DTSTART:20260311T090000
DTEND:20260311T180000
SUMMARY:MarchÃ© aux livres - esplanade
DESCRIPTION:Les bouquinistes de lâ€™association Â«Â la mÃ©moire du livreÂ Â
 » vous proposent un marchÃ© aux livres d'occasion anciens et modernes dans 
 tous les domaines. Une manifestation gratuite de 5 Ã  20 bouquinistes, pour
  tous, toute lâ€™annÃ©e et chaque mercredi et samedi de 09h00 Ã  18h00.\nMo
 ntpellier esplanade charles de gaulle allÃ©e jean de lattre de tassigny\n\n
 Samedi 7 Mars 2026\nde 9h00 Ã  18h00\n\nLa mÃ©moire du livr
LOCATION:AllÃ©e Jean de Lattre de Tassigny, 34000 Montpellier
URL:https://bradeur.fr/braderie.php?slug=marche-aux-livres-esplanade
END:VEVENT
END:VCALENDAR
