BEGIN:VCALENDAR
VERSION:2.0
PRODID:-//Bradeur.fr//FR
CALSCALE:GREGORIAN
METHOD:PUBLISH
BEGIN:VEVENT
UID:1258-marche-des-bouquinistes-de-la-victoire@bradeur.fr
DTSTAMP:20260425T142915Z
DTSTART:20260312T080000
DTEND:20260312T183000
SUMMARY:Marché des bouquinistes de la victoire
DESCRIPTION:Marché permanent de bouquinistes tous les jeudis et vendredis 
 sur la place de la victoire\nPour toute information contacter la mairie de 
 bordeaux\n\nVendredi 6 Mars 2026\nde 8h00 à 18h30\n\nMairie de Bordeaux\nP
 lace de la Victoire\n33000 Bordeaux
LOCATION:Place de la Victoire, 33000 Bordeaux
URL:https://bradeur.fr/braderie.php?slug=marche-des-bouquinistes-de-la-vict
 oire
END:VEVENT
END:VCALENDAR
