BEGIN:VCALENDAR
VERSION:2.0
PRODID:-//Bradeur.fr//FR
CALSCALE:GREGORIAN
METHOD:PUBLISH
BEGIN:VEVENT
UID:668-mast-dance-brocante@bradeur.fr
DTSTAMP:20260425T234907Z
DTSTART:20260412T080000
DTEND:20260412T160000
SUMMARY:Mast'dance — Brocante
DESCRIPTION:Dimanche 12 Avril 2026\nde 8h00 à 16h00\n\nMast'dance\n59172 M
 astaing
LOCATION:59172 Mastaing
URL:https://bradeur.fr/braderie.php?slug=mast-dance-brocante
END:VEVENT
END:VCALENDAR
