BEGIN:VCALENDAR
VERSION:2.0
PRODID:-//Bradeur.fr//FR
CALSCALE:GREGORIAN
METHOD:PUBLISH
BEGIN:VEVENT
UID:482-mediatheque-d-esquelbecq-livres@bradeur.fr
DTSTAMP:20260425T142348Z
DTSTART:20260314T100000
DTEND:20260314T170000
SUMMARY:médiathèque d'Esquelbecq — Livres
DESCRIPTION:Samedi 14 Mars 2026\nde 10h00 à 17h00\n\nmédiathèque d'Esque
 lbecq\n59470 Esquelbecq\n\nℹ️ Seul l'organisateur expose — aucun empl
 acement à réserver
LOCATION:59470 Esquelbecq
URL:https://bradeur.fr/braderie.php?slug=mediatheque-d-esquelbecq-livres
END:VEVENT
END:VCALENDAR
