BEGIN:VCALENDAR
VERSION:2.0
PRODID:-//Bradeur.fr//FR
CALSCALE:GREGORIAN
METHOD:PUBLISH
BEGIN:VEVENT
UID:642-mediatheque-municipale-mediatheque-municipale-musique@bradeur.fr
DTSTAMP:20260425T180840Z
DTSTART:20260411T100000
DTEND:20260411T160000
SUMMARY:Mediatheque municipale — Mediatheque Municipale Musique
DESCRIPTION:Samedi 11 Avril 2026\nde 10h00 à 16h00\n\nMediatheque municipa
 le\n62700 Bruay La Buissière
LOCATION:62700 Bruay La Buissière
URL:https://bradeur.fr/braderie.php?slug=mediatheque-municipale-mediatheque
 -municipale-musique
END:VEVENT
END:VCALENDAR
