BEGIN:VCALENDAR
VERSION:2.0
PRODID:-//Bradeur.fr//FR
CALSCALE:GREGORIAN
METHOD:PUBLISH
BEGIN:VEVENT
UID:531-mfd-modelisme-ferroviere-de-dunkerque-brocante@bradeur.fr
DTSTAMP:20260425T180436Z
DTSTART:20260328T080000
DTEND:20260329T170000
SUMMARY:MFD Modelisme Ferrovière de Dunkerque — Brocante
DESCRIPTION:Le redressement et la transformation du Dunkerquois engagés il
  y a tout juste 10 ans se concrétisent aujourd'hui par l'implantation de..
 .\n\nSamedi 28 Mars 2026\nde 8h00 à 17h00\n\nDimanche 29 Mars 2026\nde 8h0
 0 à 17h00\n\nMFD Modelisme Ferrovière de Dunkerque\n59140 Dunkerque
LOCATION:59140 Dunkerque
URL:https://bradeur.fr/braderie.php?slug=mfd-modelisme-ferroviere-de-dunker
 que-brocante
END:VEVENT
END:VCALENDAR
