BEGIN:VCALENDAR
VERSION:2.0
PRODID:-//Bradeur.fr//FR
CALSCALE:GREGORIAN
METHOD:PUBLISH
BEGIN:VEVENT
UID:625-mining-bourse-collections@bradeur.fr
DTSTAMP:20260425T204032Z
DTSTART:20260406T090000
DTEND:20260406T170000
SUMMARY:MINING â€” Bourse Collections
DESCRIPTION:ActualitÃ©s 22 janvier 2026 Deux roues motorisÃ©es, assurez-vou
 s ! La DÃ©lÃ©guÃ©e interministÃ©rielle Ã  la SÃ©curitÃ© routiÃ¨re, Estelle 
 Balit, rappelle que les utilisateurs de trottinettes Ã©lectriques, monoroue
 s, gyropodes et hoverboards doivent assurer leurs engins de dÃ©placement pe
 rsonnels motorisÃ©s (EDPM). Ne nÃ©gligez pas cette obligation pour votre sÃ
 ©curitÃ© ! Les trottinettes Ã©lectriques et autres eng
LOCATION:62160 Bully Les Mines
URL:https://bradeur.fr/braderie.php?slug=mining-bourse-collections
END:VEVENT
END:VCALENDAR
