BEGIN:VCALENDAR
VERSION:2.0
PRODID:-//Bradeur.fr//FR
CALSCALE:GREGORIAN
METHOD:PUBLISH
BEGIN:VEVENT
UID:1102-mining-mining-mine@bradeur.fr
DTSTAMP:20260425T175711Z
DTSTART:20261004T090000
DTEND:20261004T170000
SUMMARY:MINING â€” Mining Mine
DESCRIPTION:ActualitÃ©s 22 janvier 2026 Deux roues motorisÃ©es, assurez-vou
 s ! La DÃ©lÃ©guÃ©e interministÃ©rielle Ã  la SÃ©curitÃ© routiÃ¨re, Estelle 
 Balit, rappelle que les utilisateurs de trottinettes Ã©lectriques, monoroue
 s, gyropodes et hoverboards doivent assurer leurs engins de dÃ©placement pe
 rsonnels motorisÃ©s (EDPM). Ne nÃ©gligez pas cette obligation pour votre sÃ
 ©curitÃ© ! Les trottinettes Ã©lectriques et autres eng
LOCATION:62160 Bully Les Mines
URL:https://bradeur.fr/braderie.php?slug=mining-mining-mine
END:VEVENT
END:VCALENDAR
