BEGIN:VCALENDAR
VERSION:2.0
PRODID:-//Bradeur.fr//FR
CALSCALE:GREGORIAN
METHOD:PUBLISH
BEGIN:VEVENT
UID:742-mjc-mjc-disque@bradeur.fr
DTSTAMP:20260425T204504Z
DTSTART:20260426T093000
DTEND:20260426T173000
SUMMARY:MJC — Mjc Disque
DESCRIPTION:Festival A Travers Chants Brochure Culturelle Brochure d’acti
 vités Inscriptions enfants Dépliant stages peinture Articles plus ancie
 ns…\n\nDimanche 26 Avril 2026\nde 9h30 à 17h30\n\nMJC\n59880 Saint Saulv
 e
LOCATION:59880 Saint Saulve
URL:https://bradeur.fr/braderie.php?slug=mjc-mjc-disque
END:VEVENT
END:VCALENDAR
