BEGIN:VCALENDAR
VERSION:2.0
PRODID:-//Bradeur.fr//FR
CALSCALE:GREGORIAN
METHOD:PUBLISH
BEGIN:VEVENT
UID:953-mon-quartier-en-fete-vide-greniers@bradeur.fr
DTSTAMP:20260426T022916Z
DTSTART:20260614T070000
DTEND:20260614T170000
SUMMARY:mon quartier en fête — Vide-greniers
DESCRIPTION:Centre Socioculturel Restauration Portail famille Rénovation N
 PNRU Espace Joséphine Baker Annuaire des Associations Police Municipale Le
  mag Professionnels de santé Signalements CUD Consultez l’agenda complet
  Tous les événements Recrutements Animateur(trice)s en centre de loisirs 
 ou en périscolaire (cliquez sur l’image pour lire la suite) Toutes les a
 ctualités Retour en images Cérémonie officielle
LOCATION:59229 Téteghem Coudekerque Village
URL:https://bradeur.fr/braderie.php?slug=mon-quartier-en-fete-vide-greniers
END:VEVENT
END:VCALENDAR
