BEGIN:VCALENDAR
VERSION:2.0
PRODID:-//Bradeur.fr//FR
CALSCALE:GREGORIAN
METHOD:PUBLISH
BEGIN:VEVENT
UID:759-mouvaux-vide-greniers@bradeur.fr
DTSTAMP:20260425T204642Z
DTSTART:20260501T080000
DTEND:20260501T140000
SUMMARY:Mouvaux — Vide-greniers
DESCRIPTION:Le Lions Club Mouvaux le Bosquiel est composé d'hommes et de f
 emmes actifs et disponibles, engagés dans des actions caritatives\n\nVendr
 edi 1 Mai 2026\nde 8h00 à 14h00\n\nMouvaux\n59420 Mouvaux
LOCATION:59420 Mouvaux
URL:https://bradeur.fr/braderie.php?slug=mouvaux-vide-greniers
END:VEVENT
END:VCALENDAR
