BEGIN:VCALENDAR
VERSION:2.0
PRODID:-//Bradeur.fr//FR
CALSCALE:GREGORIAN
METHOD:PUBLISH
BEGIN:VEVENT
UID:612-multi-collections-bourse-collections@bradeur.fr
DTSTAMP:20260425T175812Z
DTSTART:20260405T090000
DTEND:20260405T170000
SUMMARY:multi collections — Bourse Collections
DESCRIPTION:Dimanche 5 Avril 2026\nde 9h00 à 17h00\n\nmulti collections\n5
 9267 Proville
LOCATION:59267 Proville
URL:https://bradeur.fr/braderie.php?slug=multi-collections-bourse-collectio
 ns
END:VEVENT
END:VCALENDAR
