BEGIN:VCALENDAR
VERSION:2.0
PRODID:-//Bradeur.fr//FR
CALSCALE:GREGORIAN
METHOD:PUBLISH
BEGIN:VEVENT
UID:1064-municipalite-et-comite-des-fetes-de-neuville-vitasse-brocante@brad
 eur.fr
DTSTAMP:20260425T211023Z
DTSTART:20260905T100000
DTEND:20260905T180000
SUMMARY:Municipalité et comité des fêtes de Neuville Vitasse — Brocant
 e
DESCRIPTION:Neuville-Vitasse est un village de 503 habitants situé au cœu
 r des plaines céréalières. Tranquillité, convivialité et cadre de vie 
 verdoyant sont les maître-mots de cette commune qui a mis en œuvre au cou
 rs des dernières années une rénovation complète de ses édifices (monum
 ent aux morts, église, cimetière, mairie…).\n\nSamedi 5 Septembre 2026\
 nde 10h00 à 18h00\n\nMunicipalité et comité des fêtes de Neu
LOCATION:62217 Neuville Vitasse
URL:https://bradeur.fr/braderie.php?slug=municipalite-et-comite-des-fetes-d
 e-neuville-vitasse-brocante
END:VEVENT
END:VCALENDAR
