BEGIN:VCALENDAR
VERSION:2.0
PRODID:-//Bradeur.fr//FR
CALSCALE:GREGORIAN
METHOD:PUBLISH
BEGIN:VEVENT
UID:1089-musee-du-jouet-ancien-jouets@bradeur.fr
DTSTAMP:20260425T194048Z
DTSTART:20260927T090000
DTEND:20260927T170000
SUMMARY:musée du Jouet ancien — Jouets
DESCRIPTION:Dimanche 27 Septembre 2026\nde 9h00 à 17h00\n\nmusée du Jouet
  ancien\n59118 Wambrechies
LOCATION:59118 Wambrechies
URL:https://bradeur.fr/braderie.php?slug=musee-du-jouet-ancien-jouets
END:VEVENT
END:VCALENDAR
