BEGIN:VCALENDAR
VERSION:2.0
PRODID:-//Bradeur.fr//FR
CALSCALE:GREGORIAN
METHOD:PUBLISH
BEGIN:VEVENT
UID:568-n-dydance-braderie@bradeur.fr
DTSTAMP:20260425T180006Z
DTSTART:20260329T090000
DTEND:20260329T140000
SUMMARY:N'DYDANCE — Braderie
DESCRIPTION:Actualité       + Voir toute l'actualité           Agenda    
    Site en construction!Notre site est en cours de mise à jour. Merci de v
 otre compréhension.Nous restons néanmoins à votre disposition,sur place 
 à la mairie ou par téléphone.Mairie de WAHAGNIES23 Place Jean-Baptiste L
 ebas59261\n\nDimanche 29 Mars 2026\nde 9h00 à 14h00\n\nN'DYDANCE\n59261 Wa
 hagnies
LOCATION:59261 Wahagnies
URL:https://bradeur.fr/braderie.php?slug=n-dydance-braderie
END:VEVENT
END:VCALENDAR
