BEGIN:VCALENDAR
VERSION:2.0
PRODID:-//Bradeur.fr//FR
CALSCALE:GREGORIAN
METHOD:PUBLISH
BEGIN:VEVENT
UID:669-nos-amis-du-clair-de-lune-brocante@bradeur.fr
DTSTAMP:20260425T205210Z
DTSTART:20260412T080000
DTEND:20260412T170000
SUMMARY:nos amis du clair de lune â€” Brocante
DESCRIPTION:DÃ©couvrez le site officiel de la Ville de Maubeuge : actualitÃ
 ©s, dÃ©marches en ligne, services municipaux et informations pratiques pour
  les habitants.\n\nDimanche 12 Avril 2026\nde 8h00 Ã  17h00\n\nnos amis du 
 clair de lune\n59600 Maubeuge
LOCATION:59600 Maubeuge
URL:https://bradeur.fr/braderie.php?slug=nos-amis-du-clair-de-lune-brocante
END:VEVENT
END:VCALENDAR
