BEGIN:VCALENDAR
VERSION:2.0
PRODID:-//Bradeur.fr//FR
CALSCALE:GREGORIAN
METHOD:PUBLISH
BEGIN:VEVENT
UID:1065-nos-amis-du-clair-de-lune-brocante-1@bradeur.fr
DTSTAMP:20260425T205805Z
DTSTART:20260906T080000
DTEND:20260906T170000
SUMMARY:nos amis du clair de lune â€” Brocante
DESCRIPTION:DÃ©couvrez le site officiel de la Ville de Maubeuge : actualitÃ
 ©s, dÃ©marches en ligne, services municipaux et informations pratiques pour
  les habitants.\n\nDimanche 6 Septembre 2026\nde 8h00 Ã  17h00\n\nnos amis 
 du clair de lune\n59600 Maubeuge
LOCATION:59600 Maubeuge
URL:https://bradeur.fr/braderie.php?slug=nos-amis-du-clair-de-lune-brocante
 -1
END:VEVENT
END:VCALENDAR
