BEGIN:VCALENDAR
VERSION:2.0
PRODID:-//Bradeur.fr//FR
CALSCALE:GREGORIAN
METHOD:PUBLISH
BEGIN:VEVENT
UID:918-oeuvre-du-livre-puces@bradeur.fr
DTSTAMP:20260426T032149Z
DTSTART:20260531T080000
DTEND:20260531T170000
SUMMARY:Oeuvre du livre — Puces
DESCRIPTION:Dimanche 31 Mai 2026\nde 8h00 à 17h00\n\nOeuvre du livre\n6229
 0 Noeux Les Mines
LOCATION:62290 Noeux Les Mines
URL:https://bradeur.fr/braderie.php?slug=oeuvre-du-livre-puces
END:VEVENT
END:VCALENDAR
