BEGIN:VCALENDAR
VERSION:2.0
PRODID:-//Bradeur.fr//FR
CALSCALE:GREGORIAN
METHOD:PUBLISH
BEGIN:VEVENT
UID:510-org-jovan-0032-0-485-104-690-puces@bradeur.fr
DTSTAMP:20260425T180548Z
DTSTART:20260315T083000
DTEND:20260315T170000
SUMMARY:Org. JOVAN 0032(0)485 104 690 — Puces
DESCRIPTION:Dimanche 15 Mars 2026\nde 8h30 à 17h00\n\nOrg. JOVAN 0032(0)48
 5 104 690\nOudenburg
LOCATION:Oudenburg
URL:https://bradeur.fr/braderie.php?slug=org-jovan-0032-0-485-104-690-puces
END:VEVENT
END:VCALENDAR
