BEGIN:VCALENDAR
VERSION:2.0
PRODID:-//Bradeur.fr//FR
CALSCALE:GREGORIAN
METHOD:PUBLISH
BEGIN:VEVENT
UID:1004-org-jovan-0032-0-485-104-690-puces-4@bradeur.fr
DTSTAMP:20260425T235840Z
DTSTART:20260705T070000
DTEND:20260705T170000
SUMMARY:Org. JOVAN 0032(0)485 104 690 — Puces
DESCRIPTION:Dimanche 5 Juillet 2026\nde 7h00 à 17h00\n\nOrg. JOVAN 0032(0)
 485 104 690\nVarsenare
LOCATION:Varsenare
URL:https://bradeur.fr/braderie.php?slug=org-jovan-0032-0-485-104-690-puces
 -4
END:VEVENT
END:VCALENDAR
