BEGIN:VCALENDAR
VERSION:2.0
PRODID:-//Bradeur.fr//FR
CALSCALE:GREGORIAN
METHOD:PUBLISH
BEGIN:VEVENT
UID:1027-org-jovan-0032-0-485-104-690-puces-5@bradeur.fr
DTSTAMP:20260425T220523Z
DTSTART:20260726T070000
DTEND:20260726T170000
SUMMARY:Org. JOVAN 0032(0)485 104 690 — Puces
DESCRIPTION:Dimanche 26 Juillet 2026\nde 7h00 à 17h00\n\nOrg. JOVAN 0032(0
 )485 104 690\nLapscheure
LOCATION:Lapscheure
URL:https://bradeur.fr/braderie.php?slug=org-jovan-0032-0-485-104-690-puces
 -5
END:VEVENT
END:VCALENDAR
