BEGIN:VCALENDAR
VERSION:2.0
PRODID:-//Bradeur.fr//FR
CALSCALE:GREGORIAN
METHOD:PUBLISH
BEGIN:VEVENT
UID:1126-org-jovan-0032-0-485-104-690-puces-6@bradeur.fr
DTSTAMP:20260425T180712Z
DTSTART:20261031T083000
DTEND:20261101T170000
SUMMARY:Org. JOVAN 0032(0)485 104 690 — Puces
DESCRIPTION:Samedi 31 Octobre 2026\nde 8h30 à 17h00\n\nDimanche 1 Novembre
  2026\nde 18h00 à 20h00\n\nOrg. JOVAN 0032(0)485 104 690\nSint Andries
LOCATION:Sint Andries
URL:https://bradeur.fr/braderie.php?slug=org-jovan-0032-0-485-104-690-puces
 -6
END:VEVENT
END:VCALENDAR
