BEGIN:VCALENDAR
VERSION:2.0
PRODID:-//Bradeur.fr//FR
CALSCALE:GREGORIAN
METHOD:PUBLISH
BEGIN:VEVENT
UID:1143-org-jovan-0032-0-485-104-690-puces-8@bradeur.fr
DTSTAMP:20260425T180601Z
DTSTART:20261129T083000
DTEND:20261129T170000
SUMMARY:Org. JOVAN 0032(0)485 104 690 — Puces
DESCRIPTION:Dimanche 29 Novembre 2026\nde 8h30 à 17h00\n\nOrg. JOVAN 0032(
 0)485 104 690\nOudenburg
LOCATION:Oudenburg
URL:https://bradeur.fr/braderie.php?slug=org-jovan-0032-0-485-104-690-puces
 -8
END:VEVENT
END:VCALENDAR
