BEGIN:VCALENDAR
VERSION:2.0
PRODID:-//Bradeur.fr//FR
CALSCALE:GREGORIAN
METHOD:PUBLISH
BEGIN:VEVENT
UID:1147-paroisse-polonaise-noel-a-bruay-la-buissiere@bradeur.fr
DTSTAMP:20260425T180548Z
DTSTART:20261219T080000
DTEND:20261220T180000
SUMMARY:Paroisse Polonaise Noel à Bruay La Buissiere
DESCRIPTION:Samedi 19 Décembre 2026\nde 8h00 à 18h00\n\nDimanche 20 Déce
 mbre 2026\nde 8h00 à 18h00\n\n62700 Bruay La Buissière
LOCATION:62700 Bruay La Buissière
URL:https://bradeur.fr/braderie.php?slug=paroisse-polonaise-noel-a-bruay-la
 -buissiere
END:VEVENT
END:VCALENDAR
