BEGIN:VCALENDAR
VERSION:2.0
PRODID:-//Bradeur.fr//FR
CALSCALE:GREGORIAN
METHOD:PUBLISH
BEGIN:VEVENT
UID:556-phila-bourse-collections@bradeur.fr
DTSTAMP:20260425T175837Z
DTSTART:20260329T080000
DTEND:20260329T170000
SUMMARY:phila — Bourse Collections
DESCRIPTION:Dimanche 29 Mars 2026\nde 8h00 à 17h00\n\nphila\n59253 La Gorg
 ue
LOCATION:59253 La Gorgue
URL:https://bradeur.fr/braderie.php?slug=phila-bourse-collections
END:VEVENT
END:VCALENDAR
