BEGIN:VCALENDAR
VERSION:2.0
PRODID:-//Bradeur.fr//FR
CALSCALE:GREGORIAN
METHOD:PUBLISH
BEGIN:VEVENT
UID:546-ping-vendinois-puces@bradeur.fr
DTSTAMP:20260425T175837Z
DTSTART:20260328T080000
DTEND:20260329T170000
SUMMARY:Ping Vendinois — Puces
DESCRIPTION:Vendin-le-Vieil - Site Internet de la ville de Vendin-le-Vieil.
  Découvrez toutes les informations et les services de la ville de Vendin-l
 e-Vieil dans le Pas de Calais (62). Actualités, services, agenda, album ph
 oto... Retrouvez la vie de la commune de Vendin-le-Vieil.\n\nSamedi 28 Mars
  2026\nde 8h00 à 17h00\n\nDimanche 29 Mars 2026\nde 8h00 à 13h00\n\nPing 
 Vendinois\n62880 Vendin Le Vieil
LOCATION:62880 Vendin Le Vieil
URL:https://bradeur.fr/braderie.php?slug=ping-vendinois-puces
END:VEVENT
END:VCALENDAR
