BEGIN:VCALENDAR
VERSION:2.0
PRODID:-//Bradeur.fr//FR
CALSCALE:GREGORIAN
METHOD:PUBLISH
BEGIN:VEVENT
UID:491-playmobil-a-sailly-sur-la-lys@bradeur.fr
DTSTAMP:20260425T180436Z
DTSTART:20260314T100000
DTEND:20260315T180000
SUMMARY:Playmobil à Sailly Sur La Lys
DESCRIPTION:Samedi 14 Mars 2026\nde 10h00 à 18h00\n\nDimanche 15 Mars 2026
 \nde 10h00 à 17h00\n\n62840 Sailly Sur La Lys
LOCATION:62840 Sailly Sur La Lys
URL:https://bradeur.fr/braderie.php?slug=playmobil-a-sailly-sur-la-lys
END:VEVENT
END:VCALENDAR
