BEGIN:VCALENDAR
VERSION:2.0
PRODID:-//Bradeur.fr//FR
CALSCALE:GREGORIAN
METHOD:PUBLISH
BEGIN:VEVENT
UID:859-porte-joie-vide-greniers@bradeur.fr
DTSTAMP:20260426T044428Z
DTSTART:20260514T080000
DTEND:20260514T180000
SUMMARY:porte joie — Vide-greniers
DESCRIPTION:Jeudi 14 Mai 2026\nde 8h00 à 18h00\n\nporte joie\n62179 Wissan
 t
LOCATION:62179 Wissant
URL:https://bradeur.fr/braderie.php?slug=porte-joie-vide-greniers
END:VEVENT
END:VCALENDAR
