BEGIN:VCALENDAR
VERSION:2.0
PRODID:-//Bradeur.fr//FR
CALSCALE:GREGORIAN
METHOD:PUBLISH
BEGIN:VEVENT
UID:1046-porte-joie-vide-greniers-1@bradeur.fr
DTSTAMP:20260425T180436Z
DTSTART:20260815T080000
DTEND:20260815T180000
SUMMARY:porte joie — Vide-greniers
DESCRIPTION:Samedi 15 Août 2026\nde 8h00 à 18h00\n\nporte joie\n62179 Wis
 sant
LOCATION:62179 Wissant
URL:https://bradeur.fr/braderie.php?slug=porte-joie-vide-greniers-1
END:VEVENT
END:VCALENDAR
