BEGIN:VCALENDAR
VERSION:2.0
PRODID:-//Bradeur.fr//FR
CALSCALE:GREGORIAN
METHOD:PUBLISH
BEGIN:VEVENT
UID:818-puces-a-avion@bradeur.fr
DTSTAMP:20260426T043928Z
DTSTART:20260508T170000
DTEND:20260508T240000
SUMMARY:Puces à Avion
DESCRIPTION:Vendredi 8 Mai 2026\nde 17h00 à 24h00\n\n62210 Avion
LOCATION:62210 Avion
URL:https://bradeur.fr/braderie.php?slug=puces-a-avion
END:VEVENT
END:VCALENDAR
