BEGIN:VCALENDAR
VERSION:2.0
PRODID:-//Bradeur.fr//FR
CALSCALE:GREGORIAN
METHOD:PUBLISH
BEGIN:VEVENT
UID:1044-puces-a-avion-1@bradeur.fr
DTSTAMP:20260425T204504Z
DTSTART:20260815T080000
DTEND:20260815T163000
SUMMARY:Puces à Avion
DESCRIPTION:Samedi 15 Août 2026\nde 8h00 à 16h30\n\n62210 Avion
LOCATION:62210 Avion
URL:https://bradeur.fr/braderie.php?slug=puces-a-avion-1
END:VEVENT
END:VCALENDAR
