BEGIN:VCALENDAR
VERSION:2.0
PRODID:-//Bradeur.fr//FR
CALSCALE:GREGORIAN
METHOD:PUBLISH
BEGIN:VEVENT
UID:1036-puces-a-bethune@bradeur.fr
DTSTAMP:20260425T230039Z
DTSTART:20260802T050000
DTEND:20260802T150000
SUMMARY:Puces à Bethune
DESCRIPTION:Dimanche 2 Août 2026\nde 5h00 à 15h00\n\n62400 Bethune
LOCATION:62400 Bethune
URL:https://bradeur.fr/braderie.php?slug=puces-a-bethune
END:VEVENT
END:VCALENDAR
