BEGIN:VCALENDAR
VERSION:2.0
PRODID:-//Bradeur.fr//FR
CALSCALE:GREGORIAN
METHOD:PUBLISH
BEGIN:VEVENT
UID:1100-puces-a-bethune-1@bradeur.fr
DTSTAMP:20260425T175836Z
DTSTART:20261004T080000
DTEND:20261004T160000
SUMMARY:Puces à Bethune
DESCRIPTION:Dimanche 4 Octobre 2026\nde 8h00 à 16h00\n\n62400 Bethune
LOCATION:62400 Bethune
URL:https://bradeur.fr/braderie.php?slug=puces-a-bethune-1
END:VEVENT
END:VCALENDAR
