BEGIN:VCALENDAR
VERSION:2.0
PRODID:-//Bradeur.fr//FR
CALSCALE:GREGORIAN
METHOD:PUBLISH
BEGIN:VEVENT
UID:1128-puces-a-billy-berclau@bradeur.fr
DTSTAMP:20260425T175857Z
DTSTART:20261107T080000
DTEND:20261107T160000
SUMMARY:Puces à Billy Berclau
DESCRIPTION:Samedi 7 Novembre 2026\nde 8h00 à 16h00\n\n62138 Billy Berclau
LOCATION:62138 Billy Berclau
URL:https://bradeur.fr/braderie.php?slug=puces-a-billy-berclau
END:VEVENT
END:VCALENDAR
