BEGIN:VCALENDAR
VERSION:2.0
PRODID:-//Bradeur.fr//FR
CALSCALE:GREGORIAN
METHOD:PUBLISH
BEGIN:VEVENT
UID:581-puces-a-bouvigny-boyeffles@bradeur.fr
DTSTAMP:20260425T180006Z
DTSTART:20260329T080000
DTEND:20260425T170000
SUMMARY:Puces à Bouvigny Boyeffles
DESCRIPTION:Dimanche 29 Mars 2026\nde 8h00 à 17h00\n\n62172 Bouvigny Boyef
 fles
LOCATION:62172 Bouvigny Boyeffles
URL:https://bradeur.fr/braderie.php?slug=puces-a-bouvigny-boyeffles
END:VEVENT
END:VCALENDAR
