BEGIN:VCALENDAR
VERSION:2.0
PRODID:-//Bradeur.fr//FR
CALSCALE:GREGORIAN
METHOD:PUBLISH
BEGIN:VEVENT
UID:1097-puces-a-bruay-la-buissiere@bradeur.fr
DTSTAMP:20260425T180319Z
DTSTART:20261003T080000
DTEND:20261003T170000
SUMMARY:Puces à Bruay La Buissiere
DESCRIPTION:Samedi 3 Octobre 2026\nde 8h00 à 17h00\n\n62700 Bruay La Buiss
 ière
LOCATION:62700 Bruay La Buissière
URL:https://bradeur.fr/braderie.php?slug=puces-a-bruay-la-buissiere
END:VEVENT
END:VCALENDAR
