BEGIN:VCALENDAR
VERSION:2.0
PRODID:-//Bradeur.fr//FR
CALSCALE:GREGORIAN
METHOD:PUBLISH
BEGIN:VEVENT
UID:770-puces-a-burbure@bradeur.fr
DTSTAMP:20260426T043922Z
DTSTART:20260501T070000
DTEND:20260501T170000
SUMMARY:Puces à Burbure
DESCRIPTION:Vendredi 1 Mai 2026\nde 7h00 à 17h00\n\n62151 Burbure
LOCATION:62151 Burbure
URL:https://bradeur.fr/braderie.php?slug=puces-a-burbure
END:VEVENT
END:VCALENDAR
