BEGIN:VCALENDAR
VERSION:2.0
PRODID:-//Bradeur.fr//FR
CALSCALE:GREGORIAN
METHOD:PUBLISH
BEGIN:VEVENT
UID:928-puces-a-essars@bradeur.fr
DTSTAMP:20260426T043922Z
DTSTART:20260606T080000
DTEND:20260606T180000
SUMMARY:Puces à Essars
DESCRIPTION:Samedi 6 Juin 2026\nde 8h00 à 18h00\n\n62400 Essars
LOCATION:62400 Essars
URL:https://bradeur.fr/braderie.php?slug=puces-a-essars
END:VEVENT
END:VCALENDAR
