BEGIN:VCALENDAR
VERSION:2.0
PRODID:-//Bradeur.fr//FR
CALSCALE:GREGORIAN
METHOD:PUBLISH
BEGIN:VEVENT
UID:1063-puces-a-essars-1@bradeur.fr
DTSTAMP:20260425T204220Z
DTSTART:20260905T080000
DTEND:20260905T180000
SUMMARY:Puces à Essars
DESCRIPTION:Samedi 5 Septembre 2026\nde 8h00 à 18h00\n\n62400 Essars
LOCATION:62400 Essars
URL:https://bradeur.fr/braderie.php?slug=puces-a-essars-1
END:VEVENT
END:VCALENDAR
