BEGIN:VCALENDAR
VERSION:2.0
PRODID:-//Bradeur.fr//FR
CALSCALE:GREGORIAN
METHOD:PUBLISH
BEGIN:VEVENT
UID:648-puces-a-lens@bradeur.fr
DTSTAMP:20260425T204232Z
DTSTART:20260411T070000
DTEND:20260411T170000
SUMMARY:Puces à Lens
DESCRIPTION:Samedi 11 Avril 2026\nde 7h00 à 17h00\n\n62300 Lens
LOCATION:62300 Lens
URL:https://bradeur.fr/braderie.php?slug=puces-a-lens
END:VEVENT
END:VCALENDAR
