BEGIN:VCALENDAR
VERSION:2.0
PRODID:-//Bradeur.fr//FR
CALSCALE:GREGORIAN
METHOD:PUBLISH
BEGIN:VEVENT
UID:697-puces-a-mericourt@bradeur.fr
DTSTAMP:20260425T204343Z
DTSTART:20260418T090000
DTEND:20260418T170000
SUMMARY:Puces à Mericourt
DESCRIPTION:Samedi 18 Avril 2026\nde 9h00 à 17h00\n\n62680 Mericourt
LOCATION:62680 Mericourt
URL:https://bradeur.fr/braderie.php?slug=puces-a-mericourt
END:VEVENT
END:VCALENDAR
