BEGIN:VCALENDAR
VERSION:2.0
PRODID:-//Bradeur.fr//FR
CALSCALE:GREGORIAN
METHOD:PUBLISH
BEGIN:VEVENT
UID:905-puces-a-montigny-en-gohelle@bradeur.fr
DTSTAMP:20260425T194053Z
DTSTART:20260525T080000
DTEND:20260607T160000
SUMMARY:Puces à Montigny En Gohelle
DESCRIPTION:Lundi 25 Mai 2026\nde 8h00 à 16h00\n\nles marcheurs de la Gohe
 lle\n62640 Montigny En Gohelle
LOCATION:62640 Montigny En Gohelle
URL:https://bradeur.fr/braderie.php?slug=puces-a-montigny-en-gohelle
END:VEVENT
END:VCALENDAR
