BEGIN:VCALENDAR
VERSION:2.0
PRODID:-//Bradeur.fr//FR
CALSCALE:GREGORIAN
METHOD:PUBLISH
BEGIN:VEVENT
UID:971-puces-a-tourcoing@bradeur.fr
DTSTAMP:20260426T022620Z
DTSTART:20260620T080000
DTEND:20260620T150000
SUMMARY:Puces à Tourcoing
DESCRIPTION:Samedi 20 Juin 2026\nde 8h00 à 15h00\n\n59200 Tourcoing
LOCATION:59200 Tourcoing
URL:https://bradeur.fr/braderie.php?slug=puces-a-tourcoing
END:VEVENT
END:VCALENDAR
