BEGIN:VCALENDAR
VERSION:2.0
PRODID:-//Bradeur.fr//FR
CALSCALE:GREGORIAN
METHOD:PUBLISH
BEGIN:VEVENT
UID:652-puces-a-vendin-le-vieil@bradeur.fr
DTSTAMP:20260425T205024Z
DTSTART:20260411T080000
DTEND:20260412T150000
SUMMARY:Puces à Vendin Le Vieil
DESCRIPTION:Samedi 11 Avril 2026\nde 8h00 à 15h00\n\n62880 Vendin Le Vieil
LOCATION:62880 Vendin Le Vieil
URL:https://bradeur.fr/braderie.php?slug=puces-a-vendin-le-vieil
END:VEVENT
END:VCALENDAR
