BEGIN:VCALENDAR
VERSION:2.0
PRODID:-//Bradeur.fr//FR
CALSCALE:GREGORIAN
METHOD:PUBLISH
BEGIN:VEVENT
UID:1070-puces-a-wavrin-1@bradeur.fr
DTSTAMP:20260425T204504Z
DTSTART:20260912T090000
DTEND:20260912T160000
SUMMARY:Puces à Wavrin
DESCRIPTION:site officiel des Gais Lurons de 1948, association de Wavrin (5
 9)\n\nSamedi 12 Septembre 2026\nde 9h00 à 16h00\n\nAccueil\n59136 Wavrin
LOCATION:59136 Wavrin
URL:https://bradeur.fr/braderie.php?slug=puces-a-wavrin-1
END:VEVENT
END:VCALENDAR
