BEGIN:VCALENDAR
VERSION:2.0
PRODID:-//Bradeur.fr//FR
CALSCALE:GREGORIAN
METHOD:PUBLISH
BEGIN:VEVENT
UID:498-puces-a-wingles@bradeur.fr
DTSTAMP:20260425T175836Z
DTSTART:20260314T090000
DTEND:20260314T150000
SUMMARY:Puces à Wingles
DESCRIPTION:Bienvenue sur le site officiel du club WINGLES  Tennis de Table
 . Retrouvez toute l'actualité, le calendrier et les résultats des équipe
 s, ainsi que toute la vie du club.\n\nSamedi 14 Mars 2026\nde 9h00 à 15h00
 \n\nWINGLES  Tennis de Table : site officiel du club de tennis de table de 
 WINGLES\n62410 Wingles
LOCATION:62410 Wingles
URL:https://bradeur.fr/braderie.php?slug=puces-a-wingles
END:VEVENT
END:VCALENDAR
