BEGIN:VCALENDAR
VERSION:2.0
PRODID:-//Bradeur.fr//FR
CALSCALE:GREGORIAN
METHOD:PUBLISH
BEGIN:VEVENT
UID:1018-retraites-brocante@bradeur.fr
DTSTAMP:20260426T022544Z
DTSTART:20260719T060000
DTEND:20260719T160000
SUMMARY:Retraites — Brocante
DESCRIPTION:Dimanche 19 Juillet 2026\nde 6h00 à 16h00\n\nRetraites\n59229 
 Uxem
LOCATION:59229 Uxem
URL:https://bradeur.fr/braderie.php?slug=retraites-brocante
END:VEVENT
END:VCALENDAR
