BEGIN:VCALENDAR
VERSION:2.0
PRODID:-//Bradeur.fr//FR
CALSCALE:GREGORIAN
METHOD:PUBLISH
BEGIN:VEVENT
UID:484-rocktenbulles-bd-disque-a-gondecourt@bradeur.fr
DTSTAMP:20260425T180549Z
DTSTART:20260314T090000
DTEND:20260315T180000
SUMMARY:Rocktenbulles Bd Disque à Gondecourt
DESCRIPTION:Samedi 14 Mars 2026\nde 9h00 à 18h00\n\nDimanche 15 Mars 2026\
 nde 9h00 à 18h00\n\n59147 Gondecourt
LOCATION:59147 Gondecourt
URL:https://bradeur.fr/braderie.php?slug=rocktenbulles-bd-disque-a-gondecou
 rt
END:VEVENT
END:VCALENDAR
